BEGIN:VCALENDAR
VERSION:2.0
PRODID:-//ZAP | Zväz automobilového priemyslu Slovenskej Republiky - ECPv5.3.2.1//NONSGML v1.0//EN
CALSCALE:GREGORIAN
METHOD:PUBLISH
X-WR-CALNAME:ZAP | Zväz automobilového priemyslu Slovenskej Republiky
X-ORIGINAL-URL:https://zapsr.sk
X-WR-CALDESC:Events for ZAP | Zväz automobilového priemyslu Slovenskej Republiky
BEGIN:VTIMEZONE
TZID:Europe/Bratislava
BEGIN:DAYLIGHT
TZOFFSETFROM:+0100
TZOFFSETTO:+0200
TZNAME:CEST
DTSTART:20260329T010000
END:DAYLIGHT
BEGIN:STANDARD
TZOFFSETFROM:+0200
TZOFFSETTO:+0100
TZNAME:CET
DTSTART:20261025T010000
END:STANDARD
END:VTIMEZONE
BEGIN:VEVENT
DTSTART;TZID=Europe/Bratislava:20260128T093000
DTEND;TZID=Europe/Bratislava:20260128T113000
DTSTAMP:20260425T191430
CREATED:20260115T104616Z
LAST-MODIFIED:20260115T104626Z
UID:16578-1769592600-1769599800@zapsr.sk
SUMMARY:Seminár | Novinky v zamestnávaní cudzincov | 28. januára 2026
DESCRIPTION:Medzinárodná organizácia pre migráciu (IOM) pripravila exkluzívne pre členské zväzy Asociácie priemyselných zväzov a dopravy seminár k aktuálnym zmenám v zamestnávaní cudzincov.  \nMimoriadne sa tešíme tejto možnosti spolupráce s IOM\, ktorá je rešpektovanou medzinárodnou organizáciou v oblasti humánnej a riadenej migrácie. V našich kruhoch je IOM vnímaná predovšetkým aj ako etablovaný partner vládnych inštitúcií\, ktorý napríklad v súčasnosti poskytuje technickú podporu MPSVR SR pri tvorbe akčných plánov migračnej stratégie na Slovensku. Vážime si\, že otázky ohľadom pracovnej migrácie nám príde zodpovedať ich skúsený odborník – Katarína Hudecová.  \nSeminár vám prinesie praktické a v praxi overené informácie\, ako krok za krokom vybaviť pobyt a zamestnať cudzinca na Slovensku. Zameriava sa najmä na aktuálne novinky a poskytne priestor na vaše otázky a konkrétne situácie. Informácie zúročia najmä HR tímy a zamestnávatelia\, ktorí hľadajú a zamestnávajú štátnych príslušníkov tretích krajín.  Vašou osobnou účasťou získate skvelú príležitosť na networking a samozrejme skvelé občerstvenie a chutnú kávu – pretože práve osobný kontakt\, výmena skúseností a neformálne diskusie sú často tou najväčšou pridanou hodnotou. \nTéma: Novinky v zamestnávaní cudzincov \nKedy: 28. januára 2026\, v čase od 9:30 hod. do 11:30 hod. \nKde: Lamačská cesta 3/C – zasadačka Spolupráca alebo online \nPoplatok: bezplatne pre členov ZAP SR \nPrihlásiť sa môžete tu: https://form.typeform.com/to/aT6IruQL 
URL:https://zapsr.sk/event/seminar-novinky-v-zamestnavani-cudzincov-28-januara-2026/
END:VEVENT
BEGIN:VEVENT
DTSTART;TZID=Europe/Bratislava:20260224T093000
DTEND;TZID=Europe/Bratislava:20260224T113000
DTSTAMP:20260425T191430
CREATED:20260204T074524Z
LAST-MODIFIED:20260204T074524Z
UID:16684-1771925400-1771932600@zapsr.sk
SUMMARY:seminár: Nové nariadenie o cezhraničnej preprave odpadov – ostávajú už len tri mesiace
DESCRIPTION:Od 21. mája 2026 sa začne uplatňovať nový právny rámec\, ktorý zásadné mení doterajšie pravidlá cezhraničnej prepravy odpadov. Do jeho účinnosti ostávajú už len tri mesiace\, počas ktorých je potrebné pripraviť sa na nové požiadavky v oblasti konaní\, dokumentácie\, povolení a komunikácie s príslušnými orgánmi. \nSeminár je určený najmä pre: \n\npodniky pôsobiace v oblasti nakladania s odpadmi\,\nvýrobné a priemyselné podniky\, u ktorých odpad vzniká\, aj keď nie sú priamo činné v oblasti odpadového hospodárstva\,\nodborných pracovníkov zodpovedných za environmentálnu compliance a povoľovacie procesy.\n\n  \nZákladné informácie: \nTéma: Nové nariadenie o cezhraničnej preprave odpadov – ostávajú už len tri mesiace \nKedy: 24. februára 2026 o 9:30 hod. do 11:30 hod. \nKde: kombinovane – osobne (APZD\, Lamačská cesta 3/C\, Bratislava) / online \nPoplatok: \n\nčlenské firmy ZAP SR: bezplatne
URL:https://zapsr.sk/event/seminar-nove-nariadenie-o-cezhranicnej-preprave-odpadov-ostavaju-uz-len-tri-mesiace/
LOCATION:Lamačská cesta 3/C\,Bratislava
END:VEVENT
BEGIN:VEVENT
DTSTART;TZID=Europe/Bratislava:20260312T080000
DTEND;TZID=Europe/Bratislava:20260315T170000
DTSTAMP:20260425T191430
CREATED:20251114T090353Z
LAST-MODIFIED:20251114T090353Z
UID:16405-1773302400-1773594000@zapsr.sk
SUMMARY:MOTOCYKEL 2026
DESCRIPTION:Výrobcovia motocyklov podporia výstavu MOTOCYKEL 2026 v Bratislave \nDovozcovia motocyklových značiek\, ktorí sú združení v Divízii dovozcov pri Zväze automobilového priemyslu (ZAP SR)\, sa rozhodli zúčastniť na výstave MOTOCYKEL 2026\, ktorá sa bude tradične konať na výstavisku INCHEBA Expo Bratislava v termíne 12. – 15. marca 2026. \nCieľom je prezentovať aktuálnu ponuku značiek v profesionálnom prostredí\, ktoré zaručuje kvalitné zázemie\, vysokú návštevnosť a dlhoročnú tradíciu. \nVýstava MOTOCYKEL 2026 tak bude opäť miestom\, kde sa stretnú všetky významné značky pôsobiace na slovenskom trhu\, a návštevníci sa môžu tešiť na bohatý program\, novinky sezóny a odborné poradenstvo.
URL:https://zapsr.sk/event/motocykel-2026/
LOCATION:INCHEBA Expo Bratislava
END:VEVENT
BEGIN:VEVENT
DTSTART;TZID=Europe/Bratislava:20260312T090000
DTEND;TZID=Europe/Bratislava:20260312T170000
DTSTAMP:20260425T191430
CREATED:20260130T115543Z
LAST-MODIFIED:20260130T115543Z
UID:16646-1773306000-1773334800@zapsr.sk
SUMMARY:Konferencia FITS 2026
DESCRIPTION:FITS 2026 – Fórum inžinierov a technikov Slovenska 2026\n12.3.2026\, Congress Hotel Centrum\, Košice \n  \nZväz slovenských vedeckotechnických spoločností v spolupráci s Ministerstvom školstva\, výskumu\, vývoja a mládeže Slovenskej republiky usporiada Fórum inžinierov a technikov Slovenska 2026\nÚstredná téma FITS 2026: Využitie dronov – výzvy a riziká\nSúčasťou podujatia je slávnostné odovzdávanie ocenení ZSVTS za aktívnu prácu pre vedecko-technickú komunitu i za výsledky v oblasti vedy a techniky.\nZámerom podujatia je priblížiť možnosti využitia dronov (bezpilotných lietadiel) v našej každodennej praxi\, zdôrazniť ich úžitkové vlastnosti či využitie a aj riziká spojené s ich prevádzkou. Existuje množstvo spôsobov využitia týchto lietadiel: od doručovania zdravotníckych potrieb\, boja proti vírusom\, v geodézii a kartografii\, pátraní po nezvestných osobách\, vojenských účeloch\, energetike\, predpovedi počasia\, preprave tovaru a osôb\, až po ochranu majetku a ďalšie.\nRámcový program podujatia:\n12.3.2026 9:00 Otvorenie konferencie\n1. blok prezentácií\n2. blok prezentácií\nSlávnostná časť podujatia – oceňovanie osobností ZSVTS \nwww.zsvts.sk
URL:https://zapsr.sk/event/konferencia-fits-2026/
LOCATION:Congress Hotel Centrum\, Košice
END:VEVENT
END:VCALENDAR